BEGIN:VCALENDAR
VERSION:2.0
PRODID:-//Creativa - ECPv5.10.1//NONSGML v1.0//EN
CALSCALE:GREGORIAN
METHOD:PUBLISH
X-WR-CALNAME:Creativa
X-ORIGINAL-URL:https://pepiniere-creativa.com
X-WR-CALDESC:évènements pour Creativa
BEGIN:VTIMEZONE
TZID:Europe/Paris
BEGIN:DAYLIGHT
TZOFFSETFROM:+0100
TZOFFSETTO:+0200
TZNAME:CEST
DTSTART:20250330T010000
END:DAYLIGHT
BEGIN:STANDARD
TZOFFSETFROM:+0200
TZOFFSETTO:+0100
TZNAME:CET
DTSTART:20251026T010000
END:STANDARD
END:VTIMEZONE
BEGIN:VEVENT
DTSTART;TZID=Europe/Paris:20250617T140000
DTEND;TZID=Europe/Paris:20250617T153000
DTSTAMP:20260421T135003
CREATED:20241009T124242Z
LAST-MODIFIED:20241009T124243Z
UID:7738-1750168800-1750174200@pepiniere-creativa.com
SUMMARY:CREA'START - Atelier sur comment savoir se vendre\, le pitch et argumentaire de vente
DESCRIPTION:Vous souhaitez développer votre capacité à convaincre et à captiver votre auditoire ? Vous cherchez à affûter vos compétences en présentation et à maîtriser l’art de vendre vos idées\, produits ou services ? Cet atelier est fait pour vous ! \nNous y explorerons l’art du pitch\, l’importance de savoir se vendre et les clés pour une communication efficace. Que vous soyez un professionnel en quête de nouvelles opportunités\, un entrepreneur cherchant à attirer des investisseurs ou des clients\, ou simplement quelqu’un désireux d’améliorer ses compétences de communication. \n  \nLes objectifs : \n✅ Comprendre l’importance du pitch dans divers contextes \n✅ Apprendre à construire un pitch puissant et convaincant \n✅ Acquérir des compétences pour se vendre de manière authentique et mémorable \n✅ Explorer les éléments clés d’une communication impactante \n✅ Pratiquer des techniques pour surmonter le trac et gagner en confiance \n  \nÀ qui s’adresse cet atelier ? \n👉 Futurs entrepreneurs \n👉 Porteurs de projets \n👉 Personnes désirant créer leur propre entreprise \n  \n📌 Rendez-vous le mardi 17 juin 2025 de 14h00 à 15h30 dans la Grande salle du nouveau bâtiment de Créativa au 81-85 rue du traité de rome 84911 Avignon Cedex 9 \nInscription ici : https://forms.gle/7MnWVkcDVmn4fJB18
URL:https://pepiniere-creativa.com/event/creastart-atelier-sur-comment-savoir-se-vendre-le-pitch-et-argumentaire-de-vente-5/
LOCATION:Bâtiment principal Créativa\, 81 rue Traité de Rome Avignon Cedex 9\, 84911
ATTACH;FMTTYPE=image/jpeg:https://pepiniere-creativa.com/wp-content/uploads/2024/10/colleagues-working-together-project.jpg
END:VEVENT
END:VCALENDAR